BEGIN:VCALENDAR
VERSION:2.0
PRODID:-//ChamberMaster//Event Calendar 2.0//EN
METHOD:PUBLISH
X-PUBLISHED-TTL:P3D
REFRESH-INTERVAL:P3D
CALSCALE:GREGORIAN
BEGIN:VEVENT
DTSTART:20210517T213000Z
DTEND:20210517T230000Z
X-MICROSOFT-CDO-ALLDAYEVENT:FALSE
SUMMARY:City of Madisonville City Council Meetings
DESCRIPTION:City of Madisonville City Council Meetings\n\n1st & 3rd Mondays of each month
X-ALT-DESC;FMTTYPE=text/html:City of Madisonville City Council Meetings<br />\n1st &amp\; 3rd Mondays of each month
LOCATION:City Council Chambers
UID:e.1578.4728
SEQUENCE:3
DTSTAMP:20260421T194912Z
URL:https://business.hopkinschamber.com/events/details/city-of-madisonville-city-council-meetings-05-17-2021-4728
END:VEVENT

END:VCALENDAR
