BEGIN:VCALENDAR
VERSION:2.0
PRODID:-//ChamberMaster//Event Calendar 2.0//EN
METHOD:PUBLISH
X-PUBLISHED-TTL:P3D
REFRESH-INTERVAL:P3D
CALSCALE:GREGORIAN
BEGIN:VEVENT
DTSTART:20121201T223000Z
DTEND:20121202T003000Z
X-MICROSOFT-CDO-ALLDAYEVENT:FALSE
SUMMARY:Christmas Parade
DESCRIPTION:Madisonville Noon Kiwanis annual Christmas Parade will wind its way through downtown Madisonville. Marching bands\, floats\, decorated vehicles\, and the Big Guy himself!
X-ALT-DESC;FMTTYPE=text/html:Madisonville Noon Kiwanis annual Christmas Parade will wind its way through downtown Madisonville. Marching bands\, floats\, decorated vehicles\, and the Big Guy himself!
LOCATION:
UID:e.1578.7
SEQUENCE:3
DTSTAMP:20260423T080057Z
URL:https://business.hopkinschamber.com/events/details/christmas-parade-12-01-2012-7
END:VEVENT

END:VCALENDAR
