BEGIN:VCALENDAR
VERSION:2.0
PRODID:-//ChamberMaster//Event Calendar 2.0//EN
METHOD:PUBLISH
X-PUBLISHED-TTL:P3D
REFRESH-INTERVAL:P3D
CALSCALE:GREGORIAN
BEGIN:VEVENT
DTSTART:20140508T123000Z
DTEND:20140508T133000Z
X-MICROSOFT-CDO-ALLDAYEVENT:FALSE
SUMMARY:Chamber Sunrise Sessions @ Ollie's Party Place
DESCRIPTION:Join us on Thursdays for a free light breakfast and networking. Members who attend can record a free 10-second liner to air in rotation on the radio station of their choice\, thanks to our media partners WKTG/WFMW and WTTL/Howdy 97.7.
X-ALT-DESC;FMTTYPE=text/html:<div style="color: gray\;">\n<p style="margin: 0in 0in 0pt\;"><span style="font-size: 12px\;"><span style="font-family: arial\;"><span style="color: rgb(69\, 69\, 69)\;">Join us on Thursdays for a free light breakfast and networking. Members who attend can record a free 10-second liner to air in rotation on the radio station of their choice\, thanks to our media partners WKTG/WFMW and WTTL/Howdy 97.7.</span></span></span></p>\n</div>\n
LOCATION:Ollie's Party Place\, 601 McCoy Ave.\, Madisonville (next to Country Cupboard)
UID:e.1578.223
SEQUENCE:3
DTSTAMP:20260423T133738Z
URL:https://business.hopkinschamber.com/events/details/chamber-sunrise-sessions-ollie-s-party-place-05-08-2014-223
END:VEVENT

END:VCALENDAR
