BEGIN:VCALENDAR
VERSION:2.0
PRODID:-//ChamberMaster//Event Calendar 2.0//EN
METHOD:PUBLISH
X-PUBLISHED-TTL:P3D
REFRESH-INTERVAL:P3D
CALSCALE:GREGORIAN
BEGIN:VEVENT
DTSTART:20170509T170000Z
DTEND:20170509T180000Z
X-MICROSOFT-CDO-ALLDAYEVENT:FALSE
SUMMARY:Chamber Ribbon Cutting for 1 Yr Anniversary
DESCRIPTION:Help us celebrate the 1 year anniversary of Aura on Arch and Barbers on Arch!
X-ALT-DESC;FMTTYPE=text/html:Help us celebrate the 1 year anniversary of Aura on Arch and Barbers on Arch!&nbsp\; &nbsp\;
LOCATION:Aura on Arch and Barbers on Arch 301 East Arch Street Madisonville\, KY 42431
UID:e.1578.788
SEQUENCE:3
DTSTAMP:20260421T124343Z
URL:https://business.hopkinschamber.com/events/details/chamber-ribbon-cutting-for-1-yr-anniversary-788
END:VEVENT

END:VCALENDAR
