BEGIN:VCALENDAR
VERSION:2.0
PRODID:-//ChamberMaster//Event Calendar 2.0//EN
METHOD:PUBLISH
X-PUBLISHED-TTL:P3D
REFRESH-INTERVAL:P3D
CALSCALE:GREGORIAN
BEGIN:VEVENT
DTSTART:20141014T170000Z
DTEND:20141014T180000Z
X-MICROSOFT-CDO-ALLDAYEVENT:FALSE
SUMMARY:Chamber Lunch & Learn: Kentucky Proud Products Q & A
DESCRIPTION:Everything you want to know about producing or distributing Kentucky Proud products! Ben Shaffar with the Kentucky Department of Agriculture will present information about applying for membership in Kentucky Proud\, applying for grants\, the Restaurant Reward program\, and more.
X-ALT-DESC;FMTTYPE=text/html:Everything you want to know about producing or distributing Kentucky Proud products! Ben Shaffar with the Kentucky Department of Agriculture will present information about applying for membership in Kentucky Proud\, applying for grants\, the Restaurant Reward program\, and more.&nbsp\;&nbsp\;&nbsp\;
LOCATION:Chamber of Commerce\, 15 E. Center St.\, Madisonville
UID:e.1578.472
SEQUENCE:3
DTSTAMP:20260423T062601Z
URL:https://business.hopkinschamber.com/events/details/chamber-lunch-learn-kentucky-proud-products-q-a-10-14-2014-472
END:VEVENT

END:VCALENDAR
