BEGIN:VCALENDAR
VERSION:2.0
PRODID:-//ChamberMaster//Event Calendar 2.0//EN
METHOD:PUBLISH
X-PUBLISHED-TTL:P3D
REFRESH-INTERVAL:P3D
CALSCALE:GREGORIAN
BEGIN:VEVENT
DTSTART:20140606T130000Z
DTEND:20140606T220000Z
X-MICROSOFT-CDO-ALLDAYEVENT:FALSE
SUMMARY:Chamber Golf Classic
DESCRIPTION:Golf with your friends! Join us for a fun day out on the green during our annual Golf Classic. FREE breakfast\, lunch\, snacks\, beverages\, team photo\, and more PLUS the chance to win prizes on every hole as well as overall team prizes.
X-ALT-DESC;FMTTYPE=text/html:Golf with your friends! Join us for a fun day out on the green during our annual Golf Classic.&nbsp\;FREE breakfast\, lunch\, snacks\, beverages\, team photo\, and more PLUS the chance to win prizes on every hole as well as overall team prizes.&nbsp\;
LOCATION:Lakeshore Country Club\, 1000 Shamrock Drive Madisonville\, KY 42431
UID:e.1578.430
SEQUENCE:3
DTSTAMP:20260423T133523Z
URL:https://business.hopkinschamber.com/events/details/chamber-golf-classic-06-06-2014-430
END:VEVENT

END:VCALENDAR
