BEGIN:VCALENDAR
VERSION:2.0
PRODID:-//ChamberMaster//Event Calendar 2.0//EN
METHOD:PUBLISH
X-PUBLISHED-TTL:P3D
REFRESH-INTERVAL:P3D
CALSCALE:GREGORIAN
BEGIN:VEVENT
DTSTART:20150605T123000Z
DTEND:20150605T220000Z
X-MICROSOFT-CDO-ALLDAYEVENT:FALSE
SUMMARY:Chamber Golf Classic
DESCRIPTION:Golf with your friends! Join us for our annual tournament featuring great food\, good friends\, and fun on the green!
X-ALT-DESC;FMTTYPE=text/html:Golf with your friends! Join us for our annual tournament featuring great food\, good friends\, and fun on the green!
LOCATION:Lakeshore Country Club
UID:e.1578.494
SEQUENCE:3
DTSTAMP:20260421T081900Z
URL:https://business.hopkinschamber.com/events/details/chamber-golf-classic-06-05-2015-494
END:VEVENT

END:VCALENDAR
