BEGIN:VCALENDAR
VERSION:2.0
PRODID:-//ChamberMaster//Event Calendar 2.0//EN
METHOD:PUBLISH
X-PUBLISHED-TTL:P3D
REFRESH-INTERVAL:P3D
CALSCALE:GREGORIAN
BEGIN:VEVENT
DTSTART:20130628T130000Z
DTEND:20130628T210000Z
X-MICROSOFT-CDO-ALLDAYEVENT:FALSE
SUMMARY:Chamber Garage Sale
DESCRIPTION:We're clearing out the back room! Lots of goodies for sale -- used furniture\, party decorations\, and more.
X-ALT-DESC;FMTTYPE=text/html:We&#39\;re clearing out the back room! Lots of goodies for sale -- used furniture\, party decorations\, and more.
LOCATION:15 East Center St.\, Madisonville
UID:e.1578.64
SEQUENCE:3
DTSTAMP:20260424T050257Z
URL:https://business.hopkinschamber.com/events/details/chamber-garage-sale-06-28-2013-64
END:VEVENT

END:VCALENDAR
