BEGIN:VCALENDAR
VERSION:2.0
PRODID:-//ChamberMaster//Event Calendar 2.0//EN
METHOD:PUBLISH
X-PUBLISHED-TTL:P3D
REFRESH-INTERVAL:P3D
CALSCALE:GREGORIAN
BEGIN:VEVENT
DTSTART:20150207T003000Z
DTEND:20150207T030000Z
X-MICROSOFT-CDO-ALLDAYEVENT:FALSE
SUMMARY:Chamber Evening of Stars presented by Baptist Health Madisonville
DESCRIPTION:Join us for an evening of networking\, music\, food\, and fun during the Chamber Evening of Stars! We'll present our annual business awards and recognize our new members from 2014.
X-ALT-DESC;FMTTYPE=text/html:Join us for an evening of networking\, music\, food\, and fun during the Chamber Evening of Stars! We&#39\;ll present our annual business awards and recognize our new members from 2014.
LOCATION:Ballard Convention Center\, 605 East Arch St.\, Madisonville
UID:e.1578.483
SEQUENCE:3
DTSTAMP:20260421T174911Z
URL:https://business.hopkinschamber.com/events/details/chamber-evening-of-stars-presented-by-baptist-health-madisonville-02-06-2015-483
END:VEVENT

END:VCALENDAR
