BEGIN:VCALENDAR
VERSION:2.0
PRODID:-//ChamberMaster//Event Calendar 2.0//EN
METHOD:PUBLISH
X-PUBLISHED-TTL:P3D
REFRESH-INTERVAL:P3D
CALSCALE:GREGORIAN
BEGIN:VEVENT
DTSTART:20130809T230000Z
DTEND:20130810T030000Z
X-MICROSOFT-CDO-ALLDAYEVENT:FALSE
SUMMARY:Chamber Beer Garden @ Friday Night Live
DESCRIPTION:Visit with your friends at the Chamber Beer Garden during Madisonville's Friday Night Live. Must be 21 to enter.
X-ALT-DESC;FMTTYPE=text/html:Visit with your friends at the Chamber Beer Garden during Madisonville&#39\;s Friday Night Live. Must be 21 to enter.
LOCATION:Behind the old courthouse\, downtown Madisonville
UID:e.1578.58
SEQUENCE:3
DTSTAMP:20260424T021848Z
URL:https://business.hopkinschamber.com/events/details/chamber-beer-garden-friday-night-live-08-09-2013-58
END:VEVENT

END:VCALENDAR
