BEGIN:VCALENDAR
VERSION:2.0
PRODID:-//ChamberMaster//Event Calendar 2.0//EN
METHOD:PUBLISH
X-PUBLISHED-TTL:P3D
REFRESH-INTERVAL:P3D
CALSCALE:GREGORIAN
BEGIN:VEVENT
DTSTART:20150612T230000Z
DTEND:20150613T030000Z
X-MICROSOFT-CDO-ALLDAYEVENT:FALSE
SUMMARY:Chamber Beer Garden @ Friday Night Live
DESCRIPTION:Chamber Beer Garden @ Friday Night Live
X-ALT-DESC;FMTTYPE=text/html:Chamber Beer Garden @ Friday Night Live
LOCATION:Downtown Madisonville
UID:e.1578.513
SEQUENCE:3
DTSTAMP:20260421T124506Z
URL:https://business.hopkinschamber.com/events/details/chamber-beer-garden-friday-night-live-06-12-2015-513
END:VEVENT

END:VCALENDAR
