BEGIN:VCALENDAR
VERSION:2.0
PRODID:-//ChamberMaster//Event Calendar 2.0//EN
METHOD:PUBLISH
X-PUBLISHED-TTL:P3D
REFRESH-INTERVAL:P3D
CALSCALE:GREGORIAN
BEGIN:VEVENT
DTSTART:20170814T170000Z
DTEND:20170814T180000Z
X-MICROSOFT-CDO-ALLDAYEVENT:FALSE
SUMMARY:Chamber Ambassadors Lunch
DESCRIPTION:Monthly lunch for Chamber Ambassadors. If you work for a Chamber member business and are looking for a great way to be involved in the community\, consider becoming a Chamber Ambassador!
X-ALT-DESC;FMTTYPE=text/html:Monthly lunch for Chamber Ambassadors. If you work for a Chamber member business and are looking for a great way to be involved in the community\, consider becoming a Chamber Ambassador!
LOCATION:Chamber of Commerce office\, 15 E. Center St.\, Madisonville
UID:e.1578.817
SEQUENCE:3
DTSTAMP:20260419T123724Z
URL:https://business.hopkinschamber.com/events/details/chamber-ambassadors-lunch-08-14-2017-817
END:VEVENT

END:VCALENDAR
