BEGIN:VCALENDAR
VERSION:2.0
PRODID:-//ChamberMaster//Event Calendar 2.0//EN
METHOD:PUBLISH
X-PUBLISHED-TTL:P3D
REFRESH-INTERVAL:P3D
CALSCALE:GREGORIAN
BEGIN:VEVENT
DTSTART:20150806T220000Z
DTEND:20150807T000000Z
X-MICROSOFT-CDO-ALLDAYEVENT:FALSE
SUMMARY:Chamber After Hours @ Owensboro Health Multicare
DESCRIPTION:
X-ALT-DESC;FMTTYPE=text/html:
LOCATION:Owensboro Health Multicare - Madisonville
UID:e.1578.522
SEQUENCE:3
DTSTAMP:20260425T001143Z
URL:https://business.hopkinschamber.com/events/details/chamber-after-hours-owensboro-health-multicare-08-06-2015-522
END:VEVENT

END:VCALENDAR
