BEGIN:VCALENDAR
VERSION:2.0
PRODID:-//ChamberMaster//Event Calendar 2.0//EN
METHOD:PUBLISH
X-PUBLISHED-TTL:P3D
REFRESH-INTERVAL:P3D
CALSCALE:GREGORIAN
BEGIN:VEVENT
DTSTART:20241121T223000Z
DTEND:20241122T003000Z
X-MICROSOFT-CDO-ALLDAYEVENT:FALSE
SUMMARY:Chamber After Hours - City of Madisonville
DESCRIPTION:Join us for a Chamber After Hours with the City of Madisonville.
X-ALT-DESC;FMTTYPE=text/html:Join us for a Chamber After Hours with the City of Madisonville.
LOCATION:Madisonville Hopkins County Sportsplex 839 Midtown Dr\, Madisonville KY 42431
UID:e.1578.6015
SEQUENCE:3
DTSTAMP:20260420T042315Z
URL:https://business.hopkinschamber.com/events/details/chamber-after-hours-city-of-madisonville-6015
END:VEVENT

END:VCALENDAR
