BEGIN:VCALENDAR
VERSION:2.0
PRODID:-//ChamberMaster//Event Calendar 2.0//EN
METHOD:PUBLISH
X-PUBLISHED-TTL:P3D
REFRESH-INTERVAL:P3D
CALSCALE:GREGORIAN
BEGIN:VEVENT
DTSTART:20161206T230000Z
DTEND:20161207T010000Z
X-MICROSOFT-CDO-ALLDAYEVENT:FALSE
SUMMARY:Chamber After Hours @ Baptist Health Madisonville
DESCRIPTION:Join us for some festive networking as we celebrate the holiday season at the annual December Chamber After Hours hosted by Baptist Health Madisonville. Bring a new unwrapped toy\; all donations go to the local Christmas Toy Drive. Wear your festive holiday attire and enjoy a fun filled evening with friends!
X-ALT-DESC;FMTTYPE=text/html:Join us for some festive networking as we celebrate the holiday season at the annual December Chamber After Hours hosted by Baptist Health Madisonville. Bring a new unwrapped toy\; all donations go to the local Christmas Toy Drive. Wear your festive holiday attire and enjoy a fun filled evening with friends!&nbsp\; &nbsp\;&nbsp\;
LOCATION:Eighth floor\, Baptist Health tower\, 200 Clinic Drive\, Madisonville
UID:e.1578.752
SEQUENCE:3
DTSTAMP:20260424T033401Z
URL:https://business.hopkinschamber.com/events/details/chamber-after-hours-baptist-health-madisonville-752
END:VEVENT

END:VCALENDAR
