BEGIN:VCALENDAR
VERSION:2.0
PRODID:-//ChamberMaster//Event Calendar 2.0//EN
METHOD:PUBLISH
X-PUBLISHED-TTL:P3D
REFRESH-INTERVAL:P3D
CALSCALE:GREGORIAN
BEGIN:VEVENT
DTSTART:20180621T220000Z
DTEND:20180622T000000Z
X-MICROSOFT-CDO-ALLDAYEVENT:FALSE
SUMMARY:Chamber After Hours at Owensboro Health Madisonville Healthplex 510 Ruby Dr. Madisonville\, Ky
DESCRIPTION:Chamber After Hours
X-ALT-DESC;FMTTYPE=text/html:Chamber After Hours
LOCATION:Owensboro Health Madisonville Healthplex 510 Ruby Drive Madisonville\,Ky Second Floor
UID:e.1578.807
SEQUENCE:3
DTSTAMP:20260423T043653Z
URL:https://business.hopkinschamber.com/events/details/chamber-after-hours-at-owensboro-health-madisonville-healthplex-510-ruby-dr-madisonville-ky-807
END:VEVENT

END:VCALENDAR
