BEGIN:VCALENDAR
VERSION:2.0
PRODID:-//ChamberMaster//Event Calendar 2.0//EN
METHOD:PUBLISH
X-PUBLISHED-TTL:P3D
REFRESH-INTERVAL:P3D
CALSCALE:GREGORIAN
BEGIN:VEVENT
DTSTART:20131112T160000Z
DTEND:20131113T010000Z
X-MICROSOFT-CDO-ALLDAYEVENT:FALSE
SUMMARY:Center Street Writers' Guild: crafting one story at a time
DESCRIPTION:Center Street Writers' Guild: crafting one story at a time Registration will be November 5 and November 12 at HCMPL Writers (18 and older) working on fiction\, non-fiction\, short stories\, essays\, poetry\, etc... are encouraged to submit a one-page sample for consideration to library@publiclibrary.org Meetings will be Tuesdays and Thursdays from 6:30-9:00p.m. Sessions will last 10 weeks.
X-ALT-DESC;FMTTYPE=text/html:Center Street Writers&#39\; Guild: crafting one story at a time Registration will be November 5 and November 12 at HCMPL Writers (18 and older) working on fiction\, non-fiction\, short stories\, essays\, poetry\, etc... are encouraged to submit a one-page sample for consideration to library@publiclibrary.org Meetings will be Tuesdays and Thursdays from 6:30-9:00p.m. Sessions will last 10 weeks.
LOCATION:Hopkins County - Madisonville Public Library
UID:e.1578.190
SEQUENCE:3
DTSTAMP:20260422T141053Z
URL:https://business.hopkinschamber.com/events/details/center-street-writers-guild-crafting-one-story-at-a-time-11-12-2013-190
END:VEVENT

END:VCALENDAR
