BEGIN:VCALENDAR
VERSION:2.0
PRODID:-//ChamberMaster//Event Calendar 2.0//EN
METHOD:PUBLISH
X-PUBLISHED-TTL:P3D
REFRESH-INTERVAL:P3D
CALSCALE:GREGORIAN
BEGIN:VEVENT
DTSTART;VALUE=DATE:20140303
DTEND;VALUE=DATE:20140309
TRANSP:TRANSPARENT
X-MICROSOFT-CDO-ALLDAYEVENT:TRUE
SUMMARY:Celebrate Literacy Hopkins County
DESCRIPTION:The second annual Celebrate Literacy Hopkins County week promotes reading for all ages\, but especially focuses on literacy for children and teens. Programs held for county schools students includes a visiting author\, high school fiction contest\, young authors festival\, book giveaways\, and more. The Chamber\, along with other entities\, holds a Hot Topic Lunch on the theme of Community Literacy.
X-ALT-DESC;FMTTYPE=text/html:The second annual Celebrate Literacy Hopkins County week promotes reading for all ages\, but especially focuses on literacy for children and teens.&nbsp\;Programs held for county schools students includes a&nbsp\;visiting author\, high school fiction contest\, young authors festival\, book giveaways\, and more. The Chamber\, along with other entities\,&nbsp\;holds a Hot Topic Lunch&nbsp\;on the theme of Community Literacy.&nbsp\;
LOCATION:
UID:e.1578.204
SEQUENCE:3
DTSTAMP:20260422T081808Z
URL:https://business.hopkinschamber.com/events/details/celebrate-literacy-hopkins-county-03-03-2014-204
END:VEVENT

END:VCALENDAR
