BEGIN:VCALENDAR
VERSION:2.0
PRODID:-//ChamberMaster//Event Calendar 2.0//EN
METHOD:PUBLISH
X-PUBLISHED-TTL:P3D
REFRESH-INTERVAL:P3D
CALSCALE:GREGORIAN
BEGIN:VEVENT
DTSTART:20140304T173000Z
DTEND:20140304T183000Z
X-MICROSOFT-CDO-ALLDAYEVENT:FALSE
SUMMARY:CANCELLED Ribbon Cutting at the Gift Horse
DESCRIPTION:This event has been cancelled due to the weather. We will announce when it has been rescheduled.
X-ALT-DESC;FMTTYPE=text/html:This event has been cancelled due&nbsp\;to the weather.&nbsp\;We will announce when it has been rescheduled.&nbsp\;
LOCATION:
UID:e.1578.424
SEQUENCE:3
DTSTAMP:20260422T081837Z
URL:https://business.hopkinschamber.com/events/details/cancelled-ribbon-cutting-at-the-gift-horse-03-04-2014-424
END:VEVENT

END:VCALENDAR
