BEGIN:VCALENDAR
VERSION:2.0
PRODID:-//ChamberMaster//Event Calendar 2.0//EN
METHOD:PUBLISH
X-PUBLISHED-TTL:P3D
REFRESH-INTERVAL:P3D
CALSCALE:GREGORIAN
BEGIN:VEVENT
DTSTART:20130620T163000Z
DTEND:20130620T180000Z
X-MICROSOFT-CDO-ALLDAYEVENT:FALSE
SUMMARY:CANCELLED -Hot Topic Lunch-Health Care Reform
DESCRIPTION:This luncheon has been cancelled.
X-ALT-DESC;FMTTYPE=text/html:<div style="color: gray\;">\n	<span style="font-size: medium\;"><span style="font-family: calibri\;">This luncheon has been cancelled.</span></span></div>\n
LOCATION:
UID:e.1578.53
SEQUENCE:3
DTSTAMP:20260424T050346Z
URL:https://business.hopkinschamber.com/events/details/cancelled-hot-topic-lunch-health-care-reform-06-20-2013-53
END:VEVENT

END:VCALENDAR
