BEGIN:VCALENDAR
VERSION:2.0
PRODID:-//ChamberMaster//Event Calendar 2.0//EN
METHOD:PUBLISH
X-PUBLISHED-TTL:P3D
REFRESH-INTERVAL:P3D
CALSCALE:GREGORIAN
BEGIN:VEVENT
DTSTART;VALUE=DATE:20140304
DTEND;VALUE=DATE:20140305
TRANSP:TRANSPARENT
X-MICROSOFT-CDO-ALLDAYEVENT:TRUE
SUMMARY:CANCELLED After Hours @ Owensboro Health Multicare
DESCRIPTION:This event has been CANCELLED due to winter weather conditions and will be rescheduled at a later date.
X-ALT-DESC;FMTTYPE=text/html:This event has been CANCELLED due to winter weather conditions and will be rescheduled at a later date.
LOCATION:444 S. Main\, Madisonville
UID:e.1578.415
SEQUENCE:3
DTSTAMP:20260423T162533Z
URL:https://business.hopkinschamber.com/events/details/cancelled-after-hours-owensboro-health-multicare-03-04-2014-415
END:VEVENT

END:VCALENDAR
