BEGIN:VCALENDAR
VERSION:2.0
PRODID:-//ChamberMaster//Event Calendar 2.0//EN
METHOD:PUBLISH
X-PUBLISHED-TTL:P3D
REFRESH-INTERVAL:P3D
CALSCALE:GREGORIAN
BEGIN:VEVENT
DTSTART:20200818T163000Z
DTEND:20200818T173000Z
X-MICROSOFT-CDO-ALLDAYEVENT:FALSE
SUMMARY:Business@Lunch with Special Guest Congressman James Comer
DESCRIPTION:HOPKINS COUNTY REGIONAL CHAMBER OF Commerce BUSINESS@LUNCH MEMBER MEETING WITH SPECIAL GUEST CONGRESSMAN JAMES COMER \nThe event will be broadcast as a Zoom webinar and will be livestreamed from 11:30  to 12:30. \n\n\n\nCongressman Comer represents Kentucky's First Congressional District and was elected to Congress in November of 2016.  His district includes 35 counties from West Kentucky to Central Kentucky.  He grew up in rural Monroe County and graduated from Western Kentucky University where he studied his lifelong passion of agriculture. He is a member of the Agriculture\, Oversight and Reform\, and Education and Labor Committees.  Prior to his election to Congress\, he served as Kentucky's Commissioner of Agriculture having been elected in 2011.  He also served six terms as a member of the Kentucky State House.  \n\n\n\nThose interested in attending virtually should pre-register online.  Login information will be sent with your confirmation. Participants can email questions for the legislators in advance of the event by emailing office@hopkinschamber.com.
X-ALT-DESC;FMTTYPE=text/html:<h1 style="margin:0in 0in 12pt\;font-size:24pt\;font-family:Times New Roman\;font-weight:bold\;color:rgb(0\, 0\, 0)\;"><span style="text-transform:uppercase\;"><span style="color:#36424a\;"><span style="font-family:helvetica\;"><span style="font-size:16.5pt\;">HOPKINS COUNTY REGIONAL CHAMBER OF Commerce BUSINESS@LUNCH MEMBER MEETING WITH SPECIAL GUEST CONGRESSMAN JAMES COMER&nbsp\;</span></span></span></span></h1>\n<span style="color:#36424a\;"><span style="font-family:helvetica\;"><span style="font-size:10.5pt\;">The event will be broadcast as a Zoom webinar and will be livestreamed from 11:30&nbsp\;&nbsp\;to 12:30.&nbsp\;</span></span></span><br />\n<br />\n<span style="color:#36424a\;"><span style="font-family:helvetica\;"><span style="font-size:10.5pt\;">Congressman Comer represents Kentucky&rsquo\;s First Congressional District and was elected to Congress in November of 2016.&nbsp\; His district includes 35 counties from West Kentucky to Central Kentucky.&nbsp\; He grew up in rural Monroe County and graduated from Western Kentucky University where he studied his lifelong passion of agriculture. He is a member of the Agriculture\, Oversight and Reform\, and Education and Labor Committees.&nbsp\; Prior to his election to Congress\, he served as Kentucky&rsquo\;s Commissioner of Agriculture having been elected in 2011.&nbsp\; He also served six terms as a member of the Kentucky State House.&nbsp\;&nbsp\;</span></span></span><br />\n<br />\n<span style="color:#36424a\;"><span style="font-family:helvetica\;"><span style="font-size:10.5pt\;">Those interested in attending virtually should pre-register online.&nbsp\;</span></span></span>&nbsp\;Login information will be sent with your confirmation.&nbsp\;<span style="color:#36424a\;"><span style="font-family:helvetica\;"><span style="font-size:10.5pt\;">Participants can email questions for the legislators in advance of the event by emailing&nbsp\;office@hopkinschamber.com.</span></span></span><br />\n&nbsp\;
LOCATION:Virtual
UID:e.1578.4221
SEQUENCE:3
DTSTAMP:20260421T152556Z
URL:https://business.hopkinschamber.com/events/details/business-lunch-with-special-guest-congressman-james-comer-4221
END:VEVENT

END:VCALENDAR
