BEGIN:VCALENDAR
VERSION:2.0
PRODID:-//ChamberMaster//Event Calendar 2.0//EN
METHOD:PUBLISH
X-PUBLISHED-TTL:P3D
REFRESH-INTERVAL:P3D
CALSCALE:GREGORIAN
BEGIN:VEVENT
DTSTART:20141114T140000Z
DTEND:20141114T230000Z
X-MICROSOFT-CDO-ALLDAYEVENT:FALSE
SUMMARY:Build\, Go\, & Grow Entrepreneur Conference
DESCRIPTION:Build\, Go and Grow features multiple hands-on sessions with experienced business-building professionals from the Kentucky Innovation Network\, Kentucky Angel Network\, the state Cabinet for Economic Development\, Kentucky Science and Technology Corporation\, Innovate Hopkins County\, Pennyrile Area Development District\, Community Ventures\, U.S. Small Business Administration\, and the Kentucky Small Business Development Center.
X-ALT-DESC;FMTTYPE=text/html:<p style="margin: 0in 0in 0pt\;"><span style="font-size: 11px\;"><span style="font-family: arial\;"><font color="#000000">Build\, Go and Grow features multiple hands-on sessions with experienced business-building professionals from the Kentucky Innovation Network\, Kentucky Angel Network\, the state Cabinet for Economic Development\, Kentucky Science and Technology Corporation\, Innovate Hopkins County\, Pennyrile Area Development District\, Community Ventures\, U.S. Small Business Administration\, and the Kentucky Small Business Development Center. </font></span></span></p>\n
LOCATION:Madisonville Community College Synergy Lab\, 2000 College Drive
UID:e.1578.464
SEQUENCE:3
DTSTAMP:20260421T213022Z
URL:https://business.hopkinschamber.com/events/details/build-go-grow-entrepreneur-conference-11-14-2014-464
END:VEVENT

END:VCALENDAR
