BEGIN:VCALENDAR
VERSION:2.0
PRODID:-//ChamberMaster//Event Calendar 2.0//EN
METHOD:PUBLISH
X-PUBLISHED-TTL:P3D
REFRESH-INTERVAL:P3D
CALSCALE:GREGORIAN
BEGIN:VEVENT
DTSTART:20210618T223000Z
DTEND:20210619T010000Z
X-MICROSOFT-CDO-ALLDAYEVENT:FALSE
SUMMARY:Bike Nite - Swaggy P's Country Market
DESCRIPTION:All biker enthusiasts are invited.  Bike shows\, trophies\, excellent BBQ and fish available.  Door prizes\, t-shirts and porch pickin and cornhole.\n\n\n\nFree to all
X-ALT-DESC;FMTTYPE=text/html:All biker enthusiasts are invited.&nbsp\; Bike shows\, trophies\, excellent BBQ and fish available.&nbsp\; Door prizes\, t-shirts and porch pickin and cornhole.<br />\n<br />\nFree to all
LOCATION:Swaggy P's Country Market Hanson\, KY
UID:e.1578.5029
SEQUENCE:3
DTSTAMP:20260421T180824Z
URL:https://business.hopkinschamber.com/events/details/bike-nite-swaggy-p-s-country-market-5029
END:VEVENT

END:VCALENDAR
