BEGIN:VCALENDAR
VERSION:2.0
PRODID:-//ChamberMaster//Event Calendar 2.0//EN
METHOD:PUBLISH
X-PUBLISHED-TTL:P3D
REFRESH-INTERVAL:P3D
CALSCALE:GREGORIAN
BEGIN:VEVENT
DTSTART:20151208T230000Z
DTEND:20151209T010000Z
X-MICROSOFT-CDO-ALLDAYEVENT:FALSE
SUMMARY:Baptist Health Annual Chamber After Hours
DESCRIPTION:Baptist Health Annual Chamber After Hours
X-ALT-DESC;FMTTYPE=text/html:Baptist Health Annual Chamber After Hours
LOCATION:8th Floor at Baptist Health
UID:e.1578.556
SEQUENCE:3
DTSTAMP:20260422T112511Z
URL:https://business.hopkinschamber.com/events/details/baptist-health-annual-chamber-after-hours-12-08-2015-556
END:VEVENT

END:VCALENDAR
