BEGIN:VCALENDAR
VERSION:2.0
PRODID:-//ChamberMaster//Event Calendar 2.0//EN
METHOD:PUBLISH
X-PUBLISHED-TTL:P3D
REFRESH-INTERVAL:P3D
CALSCALE:GREGORIAN
BEGIN:VEVENT
DTSTART:20200502T130000Z
DTEND:20200502T150000Z
X-MICROSOFT-CDO-ALLDAYEVENT:FALSE
SUMMARY:Band on the Run 5K/1.5 Mile Walk - MNHHS Maroon Boosters
DESCRIPTION:The Madisonville North Hopkins High School March Maroons Booster are hosting the 2nd Annual Band on the Run 5K/1.5 Mile Walke at Madisonville North Hopkins High School
X-ALT-DESC;FMTTYPE=text/html:The Madisonville North Hopkins High School March Maroons Booster are hosting the 2nd Annual Band on the Run 5K/1.5 Mile Walke at Madisonville North Hopkins High School
LOCATION:Madisonville North Hopkins High School
UID:e.1578.4093
SEQUENCE:3
DTSTAMP:20260421T194428Z
URL:https://business.hopkinschamber.com/events/details/band-on-the-run-5k-1-5-mile-walk-mnhhs-maroon-boosters-4093
END:VEVENT

END:VCALENDAR
