BEGIN:VCALENDAR
VERSION:2.0
PRODID:-//ChamberMaster//Event Calendar 2.0//EN
METHOD:PUBLISH
X-PUBLISHED-TTL:P3D
REFRESH-INTERVAL:P3D
CALSCALE:GREGORIAN
BEGIN:VEVENT
DTSTART:20140118T200000Z
DTEND:20140118T220000Z
X-MICROSOFT-CDO-ALLDAYEVENT:FALSE
SUMMARY:Autism Support Group Meeting
DESCRIPTION:There will be an Autism Support Group Meeting at Hopkins County - Madisonville Public Library from 2-4 on Saturday\, January 18
X-ALT-DESC;FMTTYPE=text/html:There will be an Autism Support Group Meeting at Hopkins County - Madisonville Public Library from 2-4 on Saturday\, January 18
LOCATION:Hopkins County - Madisonville Public Library 455 Madison Square Madisonville\, KY 42431
UID:e.1578.205
SEQUENCE:3
DTSTAMP:20260422T112402Z
URL:https://business.hopkinschamber.com/events/details/autism-support-group-meeting-01-18-2014-205
END:VEVENT

END:VCALENDAR
