BEGIN:VCALENDAR
VERSION:2.0
PRODID:-//ChamberMaster//Event Calendar 2.0//EN
METHOD:PUBLISH
X-PUBLISHED-TTL:P3D
REFRESH-INTERVAL:P3D
CALSCALE:GREGORIAN
BEGIN:VEVENT
DTSTART:20131120T000000Z
DTEND:20131120T010000Z
X-MICROSOFT-CDO-ALLDAYEVENT:FALSE
SUMMARY:Artist's Way Workshop
DESCRIPTION:Artist's Way Workshop Register by Sept 10 LIMITED REGISTRATION The group will meet Tuesdays Sept 17 - Dec 10 6 - 7 p.m. For more information or to register call the facilitator\, Phyllis Smith at 270-584-9048 or Hopkins County-Madisonville Public Library at 270-825-2680
X-ALT-DESC;FMTTYPE=text/html:Artist&#39\;s Way Workshop Register by Sept 10 LIMITED REGISTRATION The group will meet Tuesdays Sept 17 - Dec 10 6 - 7 p.m. For more information or to register call the facilitator\, Phyllis Smith at 270-584-9048 or Hopkins County-Madisonville Public Library at 270-825-2680
LOCATION:
UID:e.1578.172
SEQUENCE:3
DTSTAMP:20260422T140650Z
URL:https://business.hopkinschamber.com/events/details/artist-s-way-workshop-11-19-2013-172
END:VEVENT

END:VCALENDAR
