BEGIN:VCALENDAR
VERSION:2.0
PRODID:-//ChamberMaster//Event Calendar 2.0//EN
METHOD:PUBLISH
X-PUBLISHED-TTL:P3D
REFRESH-INTERVAL:P3D
CALSCALE:GREGORIAN
BEGIN:VEVENT
DTSTART:20200226T000000Z
DTEND:20200226T010000Z
X-MICROSOFT-CDO-ALLDAYEVENT:FALSE
SUMMARY:Arbonne Healthy Happy Hour
DESCRIPTION:Join us for light refreshments and a discussion of the Arbonne's 30 Days to Healthy Living program. Learn how to identify foods that could be sabotaging your health in order to live your best life!
X-ALT-DESC;FMTTYPE=text/html:Join us for light refreshments and a discussion of the Arbonne&#39\;s 30 Days to Healthy Living program. Learn how to identify foods that could be sabotaging your health in order to live your best life!
LOCATION:Hopkins County Regional Chamber of Commerce - LCR
UID:e.1578.4074
SEQUENCE:3
DTSTAMP:20260421T235305Z
URL:https://business.hopkinschamber.com/events/details/arbonne-healthy-happy-hour-4074
END:VEVENT

END:VCALENDAR
