BEGIN:VCALENDAR
VERSION:2.0
PRODID:-//ChamberMaster//Event Calendar 2.0//EN
METHOD:PUBLISH
X-PUBLISHED-TTL:P3D
REFRESH-INTERVAL:P3D
CALSCALE:GREGORIAN
BEGIN:VEVENT
DTSTART:20131127T123000Z
DTEND:20131127T143000Z
X-MICROSOFT-CDO-ALLDAYEVENT:FALSE
SUMMARY:Annual Farm-City Breakfast
DESCRIPTION:Join us as we pay tribute to our agriculture community and honor their contribution to the local economy. Please RSVP your attendance by calling 270-821-3435.
X-ALT-DESC;FMTTYPE=text/html:<div style="color: gray\;">\n	<span style="color: rgb(40\, 86\, 133)\; font-family: &quot\;Verdana&quot\;\,&quot\;sans-serif&quot\;\; font-size: 9pt\; mso-fareast-font-family: &quot\;Times New Roman&quot\;\; mso-bidi-font-family: &quot\;Times New Roman&quot\;\; mso-ansi-language: EN-US\; mso-fareast-language: EN-US\; mso-bidi-language: AR-SA\;">Join us as we pay tribute to our agriculture community and honor their contribution to the local economy. Please RSVP your attendance by calling 270-821-3435.</span></div>\n
LOCATION:Greater Lighthouse Church\, Madisonville
UID:e.1578.188
SEQUENCE:3
DTSTAMP:20260422T140819Z
URL:https://business.hopkinschamber.com/events/details/annual-farm-city-breakfast-11-27-2013-188
END:VEVENT

END:VCALENDAR
