BEGIN:VCALENDAR
VERSION:2.0
PRODID:-//ChamberMaster//Event Calendar 2.0//EN
METHOD:PUBLISH
X-PUBLISHED-TTL:P3D
REFRESH-INTERVAL:P3D
CALSCALE:GREGORIAN
BEGIN:VEVENT
DTSTART:20211023T150000Z
DTEND:20211023T210000Z
X-MICROSOFT-CDO-ALLDAYEVENT:FALSE
SUMMARY:Annual Fall Spectacular - Car Show & Trunk or Treat
DESCRIPTION:Join Everlasting Friends for their first annual Fall Spectacular! There will be a costume contest\, trunk or treating\, awards\, a vendor 50/50 raffle\, balloon twisting\, and face painting! Cars can register from 10am-1pm and Trunk or Treat will be held from 2-4pm.
X-ALT-DESC;FMTTYPE=text/html:<span style="font-family: Roboto\; font-size: 16px\;">Join Everlasting Friends for their first annual Fall Spectacular! There will be a costume contest\, trunk or treating\, awards\, a vendor 50/50 raffle\, balloon twisting\, and face painting! Cars can register from 10am-1pm and Trunk or Treat will be held from 2-4pm.</span>
LOCATION:Parkway Plaza Mall 401 Madison Square Drive\, Madisonville KY 42431
UID:e.1578.5295
SEQUENCE:3
DTSTAMP:20260421T150521Z
URL:https://business.hopkinschamber.com/events/details/annual-fall-spectacular-car-show-trunk-or-treat-5295
END:VEVENT

END:VCALENDAR
