BEGIN:VCALENDAR
VERSION:2.0
PRODID:-//ChamberMaster//Event Calendar 2.0//EN
METHOD:PUBLISH
X-PUBLISHED-TTL:P3D
REFRESH-INTERVAL:P3D
CALSCALE:GREGORIAN
BEGIN:VEVENT
DTSTART:20160227T000000Z
DTEND:20160227T050000Z
X-MICROSOFT-CDO-ALLDAYEVENT:FALSE
SUMMARY:Annual Evening of the Stars
DESCRIPTION:Don't miss the party of year! Everyone's invited to the Chamber's Annual Evening of the Stars and Business Awards. Your ticket to our Oscar-themed event includes a prime rib dinner\, live entertainment by Tyrone Smith and the SUPER T REVUE from Nashville\, a cash bar\, and more. Open to the public so bring your friends and join the fun!
X-ALT-DESC;FMTTYPE=text/html:Don&#39\;t miss the party of year! Everyone&#39\;s invited to the Chamber&#39\;s Annual Evening of the Stars and Business Awards. Your ticket to our Oscar-themed event includes a prime rib dinner\, live entertainment by Tyrone Smith and the SUPER T REVUE from Nashville\, a cash bar\, and more. Open to the public so bring your friends and join the fun!
LOCATION:Ballard Convention Center\, 605 East Arch Street\, Madisonville
UID:e.1578.558
SEQUENCE:3
DTSTAMP:20260422T081738Z
URL:https://business.hopkinschamber.com/events/details/annual-evening-of-the-stars-02-26-2016-558
END:VEVENT

END:VCALENDAR
