BEGIN:VCALENDAR
VERSION:2.0
PRODID:-//ChamberMaster//Event Calendar 2.0//EN
METHOD:PUBLISH
X-PUBLISHED-TTL:P3D
REFRESH-INTERVAL:P3D
CALSCALE:GREGORIAN
BEGIN:VEVENT
DTSTART:20130129T173000Z
DTEND:20130129T190000Z
X-MICROSOFT-CDO-ALLDAYEVENT:FALSE
SUMMARY:Annual Chamber Luncheon
DESCRIPTION:Join us at the annual Chamber Luncheon. The recipients of the various Business of the Year awards will be recognized.
X-ALT-DESC;FMTTYPE=text/html:Join us at the annual Chamber Luncheon. The recipients of the various Business of the Year awards will be recognized.
LOCATION:Ballard Convention Center 605 E. Arch Street Madisonville\, KY 42431
UID:e.1578.11
SEQUENCE:3
DTSTAMP:20260424T113042Z
URL:https://business.hopkinschamber.com/events/details/annual-chamber-luncheon-01-29-2013-11
END:VEVENT

END:VCALENDAR
