BEGIN:VCALENDAR
VERSION:2.0
PRODID:-//ChamberMaster//Event Calendar 2.0//EN
METHOD:PUBLISH
X-PUBLISHED-TTL:P3D
REFRESH-INTERVAL:P3D
CALSCALE:GREGORIAN
BEGIN:VEVENT
DTSTART:20211022T170000Z
DTEND:20211022T230000Z
X-MICROSOFT-CDO-ALLDAYEVENT:FALSE
SUMMARY:American Red Cross Blood Drive
DESCRIPTION:Blood drive in Support of sickle cell warrior\, Zachariah Dooley. Please call 1-800-RED CROSS (1-800-733-2767) or visit redcrossblood.org and enter sponsor code: NAACP to schedule your appointment. Streamline your donation experience and save up to 15 minutes by visiting RedCrossBlood.org/RapidPass to complete your pre-donation reading and health history questions on the day of your appointment.
X-ALT-DESC;FMTTYPE=text/html:Blood drive in Support of sickle cell warrior\, Zachariah Dooley. Please call 1-800-RED CROSS (1-800-733-2767) or visit redcrossblood.org and enter sponsor code: NAACP to schedule your appointment. Streamline your donation experience and save up to 15 minutes by visiting RedCrossBlood.org/RapidPass to complete your pre-donation reading and health history questions on the day of your appointment.<br />\n<br />\n&nbsp\;
LOCATION:The blood Drive will take place at the Brown & Sue Baggett Center\, in the conference room. 200 Country Park Lane\, Greenville KY\, 42345.
UID:e.1578.5278
SEQUENCE:3
DTSTAMP:20260421T151406Z
URL:https://business.hopkinschamber.com/events/details/american-red-cross-blood-drive-5278
END:VEVENT

END:VCALENDAR
