BEGIN:VCALENDAR
VERSION:2.0
PRODID:-//ChamberMaster//Event Calendar 2.0//EN
METHOD:PUBLISH
X-PUBLISHED-TTL:P3D
REFRESH-INTERVAL:P3D
CALSCALE:GREGORIAN
BEGIN:VEVENT
DTSTART:20150911T210000Z
DTEND:20150911T220000Z
X-MICROSOFT-CDO-ALLDAYEVENT:FALSE
SUMMARY:All Occasions Formal Wear & More Grand Re-opening and Ribbon Cutting
DESCRIPTION:Grand Re-opening & Ribbon Cutting
X-ALT-DESC;FMTTYPE=text/html:Grand Re-opening &amp\; Ribbon Cutting
LOCATION:905 Nebo Road Madisonville\, KY 42431
UID:e.1578.539
SEQUENCE:3
DTSTAMP:20260422T152952Z
URL:https://business.hopkinschamber.com/events/details/all-occasions-formal-wear-more-grand-re-opening-and-ribbon-cutting-09-11-2015-539
END:VEVENT

END:VCALENDAR
