BEGIN:VCALENDAR
VERSION:2.0
PRODID:-//ChamberMaster//Event Calendar 2.0//EN
METHOD:PUBLISH
X-PUBLISHED-TTL:P3D
REFRESH-INTERVAL:P3D
CALSCALE:GREGORIAN
BEGIN:VEVENT
DTSTART:20200201T013000Z
DTEND:20200201T033000Z
X-MICROSOFT-CDO-ALLDAYEVENT:FALSE
SUMMARY:AJ Croce: Croce Plays Croce - Center Stage Series
DESCRIPTION:Center Stage Series - A J Croce:  Croce Plays Croce
X-ALT-DESC;FMTTYPE=text/html:Center Stage Series - A J Croce:&nbsp\; Croce Plays Croce
LOCATION:The Glema Mahr Center For The Arts
UID:e.1578.3863
SEQUENCE:3
DTSTAMP:20260422T014135Z
URL:https://business.hopkinschamber.com/events/details/aj-croce-croce-plays-croce-center-stage-series-3863
END:VEVENT

END:VCALENDAR
