BEGIN:VCALENDAR
VERSION:2.0
PRODID:-//ChamberMaster//Event Calendar 2.0//EN
METHOD:PUBLISH
X-PUBLISHED-TTL:P3D
REFRESH-INTERVAL:P3D
CALSCALE:GREGORIAN
BEGIN:VEVENT
DTSTART:20131017T220000Z
DTEND:20131018T000000Z
X-MICROSOFT-CDO-ALLDAYEVENT:FALSE
SUMMARY:After Hours & Ribbon Cutting - Madisonville Ford-Nissan
DESCRIPTION:
X-ALT-DESC;FMTTYPE=text/html:
LOCATION:
UID:e.1578.181
SEQUENCE:3
DTSTAMP:20260423T234637Z
URL:https://business.hopkinschamber.com/events/details/after-hours-ribbon-cutting-madisonville-ford-nissan-10-17-2013-181
END:VEVENT

END:VCALENDAR
