BEGIN:VCALENDAR
VERSION:2.0
PRODID:-//ChamberMaster//Event Calendar 2.0//EN
METHOD:PUBLISH
X-PUBLISHED-TTL:P3D
REFRESH-INTERVAL:P3D
CALSCALE:GREGORIAN
BEGIN:VEVENT
DTSTART:20140812T220000Z
DTEND:20140813T000000Z
X-MICROSOFT-CDO-ALLDAYEVENT:FALSE
SUMMARY:After Hours @ Owensboro Health MultiCare Madisonville
DESCRIPTION:Join us for a Chamber After Hours hosted by Owensboro Health Multicare Madisonville
X-ALT-DESC;FMTTYPE=text/html:Join us for a Chamber After Hours hosted by Owensboro Health Multicare Madisonville
LOCATION:444 S. Main St.\, Madisonville
UID:e.1578.454
SEQUENCE:3
DTSTAMP:20260423T092759Z
URL:https://business.hopkinschamber.com/events/details/after-hours-owensboro-health-multicare-madisonville-08-12-2014-454
END:VEVENT

END:VCALENDAR
