BEGIN:VCALENDAR
VERSION:2.0
PRODID:-//ChamberMaster//Event Calendar 2.0//EN
METHOD:PUBLISH
X-PUBLISHED-TTL:P3D
REFRESH-INTERVAL:P3D
CALSCALE:GREGORIAN
BEGIN:VEVENT
DTSTART:20140605T220000Z
DTEND:20140606T000000Z
X-MICROSOFT-CDO-ALLDAYEVENT:FALSE
SUMMARY:After Hours-Metcalfe's Landscaping & Big City Market
DESCRIPTION:Join us for an After Hours hosted by Metcalfe's Landscape & Garden Center and Big City Market & Coffee Bar
X-ALT-DESC;FMTTYPE=text/html:Join us for an After Hours hosted by Metcalfe&#39\;s Landscape &amp\; Garden Center&nbsp\;and Big City Market &amp\; Coffee Bar
LOCATION:Metcalfe's Landscape & Garden Center\, 410 Princeton Road\, Madisonville
UID:e.1578.436
SEQUENCE:3
DTSTAMP:20260423T121538Z
URL:https://business.hopkinschamber.com/events/details/after-hours-metcalfe-s-landscaping-big-city-market-06-05-2014-436
END:VEVENT

END:VCALENDAR
