BEGIN:VCALENDAR
VERSION:2.0
PRODID:-//ChamberMaster//Event Calendar 2.0//EN
METHOD:PUBLISH
X-PUBLISHED-TTL:P3D
REFRESH-INTERVAL:P3D
CALSCALE:GREGORIAN
BEGIN:VEVENT
DTSTART:20150507T220000Z
DTEND:20150508T000000Z
X-MICROSOFT-CDO-ALLDAYEVENT:FALSE
SUMMARY:After Hours @ Madisonville DaVita
DESCRIPTION:Join the management and staff of Madisonville DaVita as they celebrate their designation as a CMS 5-star Facility.
X-ALT-DESC;FMTTYPE=text/html:Join the management and staff of Madisonville DaVita as they celebrate their designation as a CMS 5-star Facility.
LOCATION:Madisonville DaVita\, 255 E. North St.\, Madisonville
UID:e.1578.507
SEQUENCE:3
DTSTAMP:20260422T204924Z
URL:https://business.hopkinschamber.com/events/details/after-hours-madisonville-davita-05-07-2015-507
END:VEVENT

END:VCALENDAR
