BEGIN:VCALENDAR
VERSION:2.0
PRODID:-//ChamberMaster//Event Calendar 2.0//EN
METHOD:PUBLISH
X-PUBLISHED-TTL:P3D
REFRESH-INTERVAL:P3D
CALSCALE:GREGORIAN
BEGIN:VEVENT
DTSTART:20130808T220000Z
DTEND:20130809T000000Z
X-MICROSOFT-CDO-ALLDAYEVENT:FALSE
SUMMARY:After Hours - Hopkins County Humane Society
DESCRIPTION:Help us celebrate the opening of the new facility for the Humane Society of Hopkins County.
X-ALT-DESC;FMTTYPE=text/html:Help us celebrate the opening of the new facility for the Humane Society of Hopkins County.
LOCATION:2210 Laffoon Trail\, Madisonville
UID:e.1578.71
SEQUENCE:3
DTSTAMP:20260424T021105Z
URL:https://business.hopkinschamber.com/events/details/after-hours-hopkins-county-humane-society-08-08-2013-71
END:VEVENT

END:VCALENDAR
