BEGIN:VCALENDAR
VERSION:2.0
PRODID:-//ChamberMaster//Event Calendar 2.0//EN
METHOD:PUBLISH
X-PUBLISHED-TTL:P3D
REFRESH-INTERVAL:P3D
CALSCALE:GREGORIAN
BEGIN:VEVENT
DTSTART:20140325T220000Z
DTEND:20140326T000000Z
X-MICROSOFT-CDO-ALLDAYEVENT:FALSE
SUMMARY:After Hours @ Hampton Inn & Suites
DESCRIPTION:Join us for an After Hours at Hampton Inn & Suites!
X-ALT-DESC;FMTTYPE=text/html:Join us for an After Hours at Hampton Inn &amp\; Suites!
LOCATION:1201 E. Center\, Madisonville
UID:e.1578.426
SEQUENCE:3
DTSTAMP:20260423T162324Z
URL:https://business.hopkinschamber.com/events/details/after-hours-hampton-inn-suites-03-25-2014-426
END:VEVENT

END:VCALENDAR
