BEGIN:VCALENDAR
VERSION:2.0
PRODID:-//ChamberMaster//Event Calendar 2.0//EN
METHOD:PUBLISH
X-PUBLISHED-TTL:P3D
REFRESH-INTERVAL:P3D
CALSCALE:GREGORIAN
BEGIN:VEVENT
DTSTART:20141030T220000Z
DTEND:20141031T000000Z
X-MICROSOFT-CDO-ALLDAYEVENT:FALSE
SUMMARY:After Hours @ First United Bank
DESCRIPTION:More information to come soon!
X-ALT-DESC;FMTTYPE=text/html:More information to come soon!
LOCATION:
UID:e.1578.469
SEQUENCE:3
DTSTAMP:20260423T062454Z
URL:https://business.hopkinschamber.com/events/details/after-hours-first-united-bank-10-30-2014-469
END:VEVENT

END:VCALENDAR
