BEGIN:VCALENDAR
VERSION:2.0
PRODID:-//ChamberMaster//Event Calendar 2.0//EN
METHOD:PUBLISH
X-PUBLISHED-TTL:P3D
REFRESH-INTERVAL:P3D
CALSCALE:GREGORIAN
BEGIN:VEVENT
DTSTART:20140925T220000Z
DTEND:20140926T000000Z
X-MICROSOFT-CDO-ALLDAYEVENT:FALSE
SUMMARY:After Hours @ Family Video/StayFit 24/Marco's Pizza
DESCRIPTION:Join us for a Chamber After Hours hosted by Family Video\, StayFit 24\, and Marco's Pizza.
X-ALT-DESC;FMTTYPE=text/html:Join us for a Chamber After Hours hosted by Family Video\, StayFit 24\, and Marco&#39\;s Pizza.
LOCATION:13 E. Arch St.\, Madisonville
UID:e.1578.456
SEQUENCE:3
DTSTAMP:20260423T080122Z
URL:https://business.hopkinschamber.com/events/details/after-hours-family-video-stayfit-24-marco-s-pizza-09-25-2014-456
END:VEVENT

END:VCALENDAR
