BEGIN:VCALENDAR
VERSION:2.0
PRODID:-//ChamberMaster//Event Calendar 2.0//EN
METHOD:PUBLISH
X-PUBLISHED-TTL:P3D
REFRESH-INTERVAL:P3D
CALSCALE:GREGORIAN
BEGIN:VEVENT
DTSTART:20130117T230000Z
DTEND:20130118T010000Z
X-MICROSOFT-CDO-ALLDAYEVENT:FALSE
SUMMARY:After Hours-Corporate All-Inclusive Rentals
DESCRIPTION:Join us for an afternoon of networking at this After Hours event.
X-ALT-DESC;FMTTYPE=text/html:Join us for an afternoon of networking at this After Hours event.
LOCATION:219 E. Broadway\, Madisonville\, KY 42431
UID:e.1578.18
SEQUENCE:3
DTSTAMP:20260424T114053Z
URL:https://business.hopkinschamber.com/events/details/after-hours-corporate-all-inclusive-rentals-01-17-2013-18
END:VEVENT

END:VCALENDAR
