BEGIN:VCALENDAR
VERSION:2.0
PRODID:-//ChamberMaster//Event Calendar 2.0//EN
METHOD:PUBLISH
X-PUBLISHED-TTL:P3D
REFRESH-INTERVAL:P3D
CALSCALE:GREGORIAN
BEGIN:VEVENT
DTSTART:20141202T230000Z
DTEND:20141203T010000Z
X-MICROSOFT-CDO-ALLDAYEVENT:FALSE
SUMMARY:After Hours @ Baptist Health Madisonville
DESCRIPTION:Join us for this annual tradition - the holiday Chamber After Hours at Baptist Health Madisonville! Bring a toy or donation for Toys for Tots.
X-ALT-DESC;FMTTYPE=text/html:Join us for this annual tradition - the holiday Chamber After Hours at Baptist Health Madisonville! Bring a toy or donation for Toys for Tots.
LOCATION:Baptist Health Madisonville\, 900 Hospital Drive
UID:e.1578.477
SEQUENCE:3
DTSTAMP:20260421T201029Z
URL:https://business.hopkinschamber.com/events/details/after-hours-baptist-health-madisonville-12-02-2014-477
END:VEVENT

END:VCALENDAR
