BEGIN:VCALENDAR
VERSION:2.0
PRODID:-//ChamberMaster//Event Calendar 2.0//EN
METHOD:PUBLISH
X-PUBLISHED-TTL:P3D
REFRESH-INTERVAL:P3D
CALSCALE:GREGORIAN
BEGIN:VEVENT
DTSTART:20130207T230000Z
DTEND:20130208T010000Z
X-MICROSOFT-CDO-ALLDAYEVENT:FALSE
SUMMARY:After Hours at MultiCare-OMHS
DESCRIPTION:Join us for an early evening of networking and fellowship at a Chamber After Hours\, hosted by MultiCare-OMHS.
X-ALT-DESC;FMTTYPE=text/html:Join us for an early evening of networking and fellowship at a Chamber After Hours\, hosted by MultiCare-OMHS.
LOCATION:MultiCare-OMHS 444 South Main Street Madisonville\, KY 42431
UID:e.1578.23
SEQUENCE:3
DTSTAMP:20260424T101514Z
URL:https://business.hopkinschamber.com/events/details/after-hours-at-multicare-omhs-02-07-2013-23
END:VEVENT

END:VCALENDAR
