BEGIN:VCALENDAR
VERSION:2.0
PRODID:-//ChamberMaster//Event Calendar 2.0//EN
METHOD:PUBLISH
X-PUBLISHED-TTL:P3D
REFRESH-INTERVAL:P3D
CALSCALE:GREGORIAN
BEGIN:VEVENT
DTSTART:20121018T220000Z
DTEND:20121019T000000Z
X-MICROSOFT-CDO-ALLDAYEVENT:FALSE
SUMMARY:After Hours at First United Bank
DESCRIPTION:Celebrate Halloween at First United Bank's Chamber After Hours. Come in costume or business attire. Hope to see you there!
X-ALT-DESC;FMTTYPE=text/html:Celebrate Halloween at First United Bank&#39\;s Chamber After Hours. Come in costume or business attire. Hope to see you there!
LOCATION:First United Bank & Trust Company 162 N. Main St. Madisonville\, KY 42431
UID:e.1578.3
SEQUENCE:3
DTSTAMP:20260424T155048Z
URL:https://business.hopkinschamber.com/events/details/after-hours-at-first-united-bank-10-18-2012-3
END:VEVENT

END:VCALENDAR
