BEGIN:VCALENDAR
VERSION:2.0
PRODID:-//ChamberMaster//Event Calendar 2.0//EN
METHOD:PUBLISH
X-PUBLISHED-TTL:P3D
REFRESH-INTERVAL:P3D
CALSCALE:GREGORIAN
BEGIN:VEVENT
DTSTART:20131210T230000Z
DTEND:20131211T010000Z
X-MICROSOFT-CDO-ALLDAYEVENT:FALSE
SUMMARY:After Hours at Baptist Health Madisonville
DESCRIPTION:
X-ALT-DESC;FMTTYPE=text/html:
LOCATION:
UID:e.1578.47
SEQUENCE:3
DTSTAMP:20260423T210926Z
URL:https://business.hopkinschamber.com/events/details/after-hours-at-baptist-health-madisonville-12-10-2013-47
END:VEVENT

END:VCALENDAR
