BEGIN:VCALENDAR
VERSION:2.0
PRODID:-//ChamberMaster//Event Calendar 2.0//EN
METHOD:PUBLISH
X-PUBLISHED-TTL:P3D
REFRESH-INTERVAL:P3D
CALSCALE:GREGORIAN
BEGIN:VEVENT
DTSTART:20130815T220000Z
DTEND:20130816T000000Z
X-MICROSOFT-CDO-ALLDAYEVENT:FALSE
SUMMARY:After Hours - Art League Auction
DESCRIPTION:Join us for an After Hours hosted by the Hopkins County Art League. Event includes an auction of original works by League members. Proceeds will go to support youth arts organization Light of Chance.
X-ALT-DESC;FMTTYPE=text/html:Join us for an After Hours hosted by the Hopkins County Art League. Event includes an auction of original works by League members. Proceeds will go to support youth arts organization Light of Chance.
LOCATION:The Depot\, 36 W. Arch Street
UID:e.1578.27
SEQUENCE:3
DTSTAMP:20260424T022815Z
URL:https://business.hopkinschamber.com/events/details/after-hours-art-league-auction-08-15-2013-27
END:VEVENT

END:VCALENDAR
